BEGIN:VCALENDAR
VERSION:2.0
PRODID:-//Charlotte County-Punta Gorda Metropolitan Planning Organization - ECPv6.15.20//NONSGML v1.0//EN
CALSCALE:GREGORIAN
METHOD:PUBLISH
X-WR-CALNAME:Charlotte County-Punta Gorda Metropolitan Planning Organization
X-ORIGINAL-URL:https://ccpgmpo.gov
X-WR-CALDESC:Events for Charlotte County-Punta Gorda Metropolitan Planning Organization
REFRESH-INTERVAL;VALUE=DURATION:PT1H
X-Robots-Tag:noindex
X-PUBLISHED-TTL:PT1H
BEGIN:VTIMEZONE
TZID:America/Halifax
BEGIN:DAYLIGHT
TZOFFSETFROM:-0400
TZOFFSETTO:-0300
TZNAME:ADT
DTSTART:20250309T060000
END:DAYLIGHT
BEGIN:STANDARD
TZOFFSETFROM:-0300
TZOFFSETTO:-0400
TZNAME:AST
DTSTART:20251102T050000
END:STANDARD
BEGIN:DAYLIGHT
TZOFFSETFROM:-0400
TZOFFSETTO:-0300
TZNAME:ADT
DTSTART:20260308T060000
END:DAYLIGHT
BEGIN:STANDARD
TZOFFSETFROM:-0300
TZOFFSETTO:-0400
TZNAME:AST
DTSTART:20261101T050000
END:STANDARD
BEGIN:DAYLIGHT
TZOFFSETFROM:-0400
TZOFFSETTO:-0300
TZNAME:ADT
DTSTART:20270314T060000
END:DAYLIGHT
BEGIN:STANDARD
TZOFFSETFROM:-0300
TZOFFSETTO:-0400
TZNAME:AST
DTSTART:20271107T050000
END:STANDARD
END:VTIMEZONE
BEGIN:VEVENT
DTSTART;TZID=America/Halifax:20260423T100000
DTEND;TZID=America/Halifax:20260423T120000
DTSTAMP:20260422T194838
CREATED:20251007T133913Z
LAST-MODIFIED:20251007T133913Z
UID:28424-1776938400-1776945600@ccpgmpo.gov
SUMMARY:TAC/CAC/BPAC Joint Meeting
DESCRIPTION:Technical Advisory Committee Meeting \nCitizens’ Advisory Committee Meeting \nBicycle/Pedestrian Advisory Committee Meeting \nCharlotte Harbor Event & Conference Center\, 75 Taylor St.\, Punta Gorda\, FL 33950
URL:https://ccpgmpo.gov/event/tac-cac-bpac-joint-meeting-2/
LOCATION:Charlotte Harbor Event & Conference Center\, 75 Taylor St\, Punta Gorda\, FL\, 33950\, United States
CATEGORIES:BPAC Meetings,CAC Meetings,TAC Meetings
ORGANIZER;CN="Charlotte County - Punta Gorda MPO":MAILTO:Office@ccpgmpo.gov
END:VEVENT
BEGIN:VEVENT
DTSTART;TZID=America/Halifax:20260715T093000
DTEND;TZID=America/Halifax:20260715T120000
DTSTAMP:20260422T194838
CREATED:20251007T135144Z
LAST-MODIFIED:20251007T135144Z
UID:28434-1784107800-1784116800@ccpgmpo.gov
SUMMARY:TAC Meeting
DESCRIPTION:Technical Advisory Committee Meeting \nMPO Office 1050 Loveland Blvd. Port Charlotte\, FL 33980
URL:https://ccpgmpo.gov/event/tac-meeting-37/
LOCATION:MPO Loveland Office\, 1050 Loveland Blvd\, Port Charlotte\, FL\, 33980\, United States
CATEGORIES:TAC Meetings
ORGANIZER;CN="Charlotte County - Punta Gorda MPO":MAILTO:Office@ccpgmpo.gov
END:VEVENT
BEGIN:VEVENT
DTSTART;TZID=America/Halifax:20260916T093000
DTEND;TZID=America/Halifax:20260916T120000
DTSTAMP:20260422T194838
CREATED:20251007T140412Z
LAST-MODIFIED:20251007T140412Z
UID:28442-1789551000-1789560000@ccpgmpo.gov
SUMMARY:TAC Meeting
DESCRIPTION:Technical Advisory Committee Meeting \nMPO Office 1050 Loveland Blvd. Port Charlotte\, FL 33980
URL:https://ccpgmpo.gov/event/tac-meeting-38/
LOCATION:MPO Loveland Office\, 1050 Loveland Blvd\, Port Charlotte\, FL\, 33980\, United States
CATEGORIES:TAC Meetings
ORGANIZER;CN="Charlotte County - Punta Gorda MPO":MAILTO:Office@ccpgmpo.gov
END:VEVENT
BEGIN:VEVENT
DTSTART;TZID=America/Halifax:20261118T093000
DTEND;TZID=America/Halifax:20261118T120000
DTSTAMP:20260422T194838
CREATED:20251007T140513Z
LAST-MODIFIED:20251007T140513Z
UID:28444-1794994200-1795003200@ccpgmpo.gov
SUMMARY:TAC Meeting
DESCRIPTION:Technical Advisory Committee Meeting \nMPO Office 1050 Loveland Blvd. Port Charlotte\, FL 33980
URL:https://ccpgmpo.gov/event/tac-meeting-39/
LOCATION:MPO Loveland Office\, 1050 Loveland Blvd\, Port Charlotte\, FL\, 33980\, United States
CATEGORIES:TAC Meetings
ORGANIZER;CN="Charlotte County - Punta Gorda MPO":MAILTO:Office@ccpgmpo.gov
END:VEVENT
END:VCALENDAR