BEGIN:VCALENDAR
VERSION:2.0
PRODID:-//Charlotte County-Punta Gorda Metropolitan Planning Organization - ECPv6.15.20//NONSGML v1.0//EN
CALSCALE:GREGORIAN
METHOD:PUBLISH
X-ORIGINAL-URL:https://ccpgmpo.gov
X-WR-CALDESC:Events for Charlotte County-Punta Gorda Metropolitan Planning Organization
REFRESH-INTERVAL;VALUE=DURATION:PT1H
X-Robots-Tag:noindex
X-PUBLISHED-TTL:PT1H
BEGIN:VTIMEZONE
TZID:UTC
BEGIN:STANDARD
TZOFFSETFROM:+0000
TZOFFSETTO:+0000
TZNAME:UTC
DTSTART:20180101T000000
END:STANDARD
END:VTIMEZONE
BEGIN:VEVENT
DTSTART;TZID=UTC:20191113T093000
DTEND;TZID=UTC:20191113T093000
DTSTAMP:20260425T095648
CREATED:20181211T081641Z
LAST-MODIFIED:20190625T230512Z
UID:19506-1573637400-1573637400@ccpgmpo.gov
SUMMARY:TAC Meeting
DESCRIPTION:Eastport Environmental Campus\, 25550 Harbor View Road\, Port Charlotte\, Florida
URL:https://ccpgmpo.gov/event/tac-meeting-10/
LOCATION:FL
CATEGORIES:TAC Meetings
END:VEVENT
END:VCALENDAR