BEGIN:VCALENDAR
VERSION:2.0
PRODID:-//Charlotte County-Punta Gorda Metropolitan Planning Organization - ECPv6.15.20//NONSGML v1.0//EN
CALSCALE:GREGORIAN
METHOD:PUBLISH
X-WR-CALNAME:Charlotte County-Punta Gorda Metropolitan Planning Organization
X-ORIGINAL-URL:https://ccpgmpo.gov
X-WR-CALDESC:Events for Charlotte County-Punta Gorda Metropolitan Planning Organization
REFRESH-INTERVAL;VALUE=DURATION:PT1H
X-Robots-Tag:noindex
X-PUBLISHED-TTL:PT1H
BEGIN:VTIMEZONE
TZID:America/Halifax
BEGIN:DAYLIGHT
TZOFFSETFROM:-0400
TZOFFSETTO:-0300
TZNAME:ADT
DTSTART:20250309T060000
END:DAYLIGHT
BEGIN:STANDARD
TZOFFSETFROM:-0300
TZOFFSETTO:-0400
TZNAME:AST
DTSTART:20251102T050000
END:STANDARD
BEGIN:DAYLIGHT
TZOFFSETFROM:-0400
TZOFFSETTO:-0300
TZNAME:ADT
DTSTART:20260308T060000
END:DAYLIGHT
BEGIN:STANDARD
TZOFFSETFROM:-0300
TZOFFSETTO:-0400
TZNAME:AST
DTSTART:20261101T050000
END:STANDARD
BEGIN:DAYLIGHT
TZOFFSETFROM:-0400
TZOFFSETTO:-0300
TZNAME:ADT
DTSTART:20270314T060000
END:DAYLIGHT
BEGIN:STANDARD
TZOFFSETFROM:-0300
TZOFFSETTO:-0400
TZNAME:AST
DTSTART:20271107T050000
END:STANDARD
END:VTIMEZONE
BEGIN:VEVENT
DTSTART;TZID=America/Halifax:20260126T110000
DTEND;TZID=America/Halifax:20260126T130000
DTSTAMP:20260423T082303
CREATED:20251007T130520Z
LAST-MODIFIED:20251216T142028Z
UID:28408-1769425200-1769432400@ccpgmpo.gov
SUMMARY:MPO Joint Meeting with Sarasota/Manatee MPO
DESCRIPTION:Metropolitan Planning Organization (MPO) Board Joint Meeting with Sarasota/Manatee MPO \nDouble Tree by Hilton\, 8009 15th Street\, Sarasota\, FL 34243
URL:https://ccpgmpo.gov/event/mpo-joint-meeting-with-sarasota-manatee-mpo-2/
LOCATION:Double Tree by Hilton\, 8009 15th Street\, Sarasota\, FL\, 34243\, United States
CATEGORIES:MPO Board Meetings
END:VEVENT
END:VCALENDAR